BEGIN:VCALENDAR
VERSION:2.0
PRODID:-//GOFAMINT NA Seminary - ECPv6.15.18//NONSGML v1.0//EN
CALSCALE:GREGORIAN
METHOD:PUBLISH
X-WR-CALNAME:GOFAMINT NA Seminary
X-ORIGINAL-URL:https://gofamintnaseminary.org
X-WR-CALDESC:Events for GOFAMINT NA Seminary
REFRESH-INTERVAL;VALUE=DURATION:PT1H
X-Robots-Tag:noindex
X-PUBLISHED-TTL:PT1H
BEGIN:VTIMEZONE
TZID:America/Detroit
BEGIN:DAYLIGHT
TZOFFSETFROM:-0500
TZOFFSETTO:-0400
TZNAME:EDT
DTSTART:20250309T070000
END:DAYLIGHT
BEGIN:STANDARD
TZOFFSETFROM:-0400
TZOFFSETTO:-0500
TZNAME:EST
DTSTART:20251102T060000
END:STANDARD
BEGIN:DAYLIGHT
TZOFFSETFROM:-0500
TZOFFSETTO:-0400
TZNAME:EDT
DTSTART:20260308T070000
END:DAYLIGHT
BEGIN:STANDARD
TZOFFSETFROM:-0400
TZOFFSETTO:-0500
TZNAME:EST
DTSTART:20261101T060000
END:STANDARD
BEGIN:DAYLIGHT
TZOFFSETFROM:-0500
TZOFFSETTO:-0400
TZNAME:EDT
DTSTART:20270314T070000
END:DAYLIGHT
BEGIN:STANDARD
TZOFFSETFROM:-0400
TZOFFSETTO:-0500
TZNAME:EST
DTSTART:20271107T060000
END:STANDARD
END:VTIMEZONE
BEGIN:VEVENT
DTSTART;TZID=America/Detroit:20261107T100000
DTEND;TZID=America/Detroit:20261107T130000
DTSTAMP:20260421T093019
CREATED:20250922T164642Z
LAST-MODIFIED:20250922T170839Z
UID:2067-1794045600-1794056400@gofamintnaseminary.org
SUMMARY:NT101 – New Testament Survey
DESCRIPTION:This class gives a general overview of each book of the New Testament portion of the Bible. Students will gain an understanding of the historical background\, central theme or purpose\, literary design\, cultural context\, and applicable message for contemporary believers. It would challenge the student to think through the structure of the books of the NT and why each author organized the material the way they did. It would increase the hunger of the students to love and study the Scripture on a regular basis.
URL:https://gofamintnaseminary.org/calendar/nt101-new-testament-survey-8/
CATEGORIES:Course Modules
END:VEVENT
BEGIN:VEVENT
DTSTART;TZID=America/Detroit:20261114T100000
DTEND;TZID=America/Detroit:20261114T130000
DTSTAMP:20260421T093019
CREATED:20250922T164642Z
LAST-MODIFIED:20250922T170839Z
UID:2069-1794650400-1794661200@gofamintnaseminary.org
SUMMARY:HM101 – Hermeneutics
DESCRIPTION:Hermeneutics is the branch of Christian theology that deals with the interpretation of the Bible. This course will discuss the importance of context\, historical setting\, geography\, figures of speech and biblical poetry. It will differentiate between drawing out the intended meaning of a passage (exegesis) versus reading into a passage a meaning that is not there (eisegesis). In the end\, students would be familiar with the important principles that must be followed to interpret\, understand and apply God’s word\, correctly. They will also be better equipped to preach and teach the word with greater confidence and relevance.
URL:https://gofamintnaseminary.org/calendar/hm101-hermeneutics/
CATEGORIES:Course Modules
END:VEVENT
BEGIN:VEVENT
DTSTART;TZID=America/Detroit:20261121T100000
DTEND;TZID=America/Detroit:20261121T130000
DTSTAMP:20260421T093019
CREATED:20250922T164656Z
LAST-MODIFIED:20250922T170839Z
UID:2071-1795255200-1795266000@gofamintnaseminary.org
SUMMARY:HM101 – Hermeneutics
DESCRIPTION:Hermeneutics is the branch of Christian theology that deals with the interpretation of the Bible. This course will discuss the importance of context\, historical setting\, geography\, figures of speech and biblical poetry. It will differentiate between drawing out the intended meaning of a passage (exegesis) versus reading into a passage a meaning that is not there (eisegesis). In the end\, students would be familiar with the important principles that must be followed to interpret\, understand and apply God’s word\, correctly. They will also be better equipped to preach and teach the word with greater confidence and relevance.
URL:https://gofamintnaseminary.org/calendar/hm101-hermeneutics-2/
CATEGORIES:Course Modules
END:VEVENT
BEGIN:VEVENT
DTSTART;TZID=America/Detroit:20261128T100000
DTEND;TZID=America/Detroit:20261128T130000
DTSTAMP:20260421T093019
CREATED:20250922T164657Z
LAST-MODIFIED:20250922T170451Z
UID:2073-1795860000-1795870800@gofamintnaseminary.org
SUMMARY:HM101 – Hermeneutics
DESCRIPTION:Hermeneutics is the branch of Christian theology that deals with the interpretation of the Bible. This course will discuss the importance of context\, historical setting\, geography\, figures of speech and biblical poetry. It will differentiate between drawing out the intended meaning of a passage (exegesis) versus reading into a passage a meaning that is not there (eisegesis). In the end\, students would be familiar with the important principles that must be followed to interpret\, understand and apply God’s word\, correctly. They will also be better equipped to preach and teach the word with greater confidence and relevance.
URL:https://gofamintnaseminary.org/calendar/hm101-hermeneutics-3/
CATEGORIES:Course Modules
END:VEVENT
END:VCALENDAR