BEGIN:VCALENDAR
VERSION:2.0
PRODID:-//GOFAMINT NA Seminary - ECPv6.15.18//NONSGML v1.0//EN
CALSCALE:GREGORIAN
METHOD:PUBLISH
X-ORIGINAL-URL:https://gofamintnaseminary.org
X-WR-CALDESC:Events for GOFAMINT NA Seminary
REFRESH-INTERVAL;VALUE=DURATION:PT1H
X-Robots-Tag:noindex
X-PUBLISHED-TTL:PT1H
BEGIN:VTIMEZONE
TZID:America/Detroit
BEGIN:DAYLIGHT
TZOFFSETFROM:-0500
TZOFFSETTO:-0400
TZNAME:EDT
DTSTART:20250309T070000
END:DAYLIGHT
BEGIN:STANDARD
TZOFFSETFROM:-0400
TZOFFSETTO:-0500
TZNAME:EST
DTSTART:20251102T060000
END:STANDARD
BEGIN:DAYLIGHT
TZOFFSETFROM:-0500
TZOFFSETTO:-0400
TZNAME:EDT
DTSTART:20260308T070000
END:DAYLIGHT
BEGIN:STANDARD
TZOFFSETFROM:-0400
TZOFFSETTO:-0500
TZNAME:EST
DTSTART:20261101T060000
END:STANDARD
BEGIN:DAYLIGHT
TZOFFSETFROM:-0500
TZOFFSETTO:-0400
TZNAME:EDT
DTSTART:20270314T070000
END:DAYLIGHT
BEGIN:STANDARD
TZOFFSETFROM:-0400
TZOFFSETTO:-0500
TZNAME:EST
DTSTART:20271107T060000
END:STANDARD
END:VTIMEZONE
BEGIN:VEVENT
DTSTART;TZID=America/Detroit:20261003T100000
DTEND;TZID=America/Detroit:20261003T130000
DTSTAMP:20260421T081908
CREATED:20250811T092428Z
LAST-MODIFIED:20250922T164612Z
UID:1791-1791021600-1791032400@gofamintnaseminary.org
SUMMARY:NAMPRRE Break
DESCRIPTION:
URL:https://gofamintnaseminary.org/calendar/namprre-break/
CATEGORIES:Breaks and Holidays
END:VEVENT
BEGIN:VEVENT
DTSTART;TZID=America/Detroit:20261010T100000
DTEND;TZID=America/Detroit:20261010T130000
DTSTAMP:20260421T081908
CREATED:20250811T164222Z
LAST-MODIFIED:20250922T170839Z
UID:1859-1791626400-1791637200@gofamintnaseminary.org
SUMMARY:NT101 – New Testament Survey
DESCRIPTION:This class gives a general overview of each book of the New Testament portion of the Bible. Students will gain an understanding of the historical background\, central theme or purpose\, literary design\, cultural context\, and applicable message for contemporary believers. It would challenge the student to think through the structure of the books of the NT and why each author organized the material the way they did. It would increase the hunger of the students to love and study the Scripture on a regular basis.
URL:https://gofamintnaseminary.org/calendar/nt101-new-testament-survey-2/
CATEGORIES:Course Modules
END:VEVENT
BEGIN:VEVENT
DTSTART;TZID=America/Detroit:20261017T100000
DTEND;TZID=America/Detroit:20261017T130000
DTSTAMP:20260421T081908
CREATED:20250922T164626Z
LAST-MODIFIED:20250922T170839Z
UID:2061-1792231200-1792242000@gofamintnaseminary.org
SUMMARY:NT101 – New Testament Survey
DESCRIPTION:This class gives a general overview of each book of the New Testament portion of the Bible. Students will gain an understanding of the historical background\, central theme or purpose\, literary design\, cultural context\, and applicable message for contemporary believers. It would challenge the student to think through the structure of the books of the NT and why each author organized the material the way they did. It would increase the hunger of the students to love and study the Scripture on a regular basis.
URL:https://gofamintnaseminary.org/calendar/nt101-new-testament-survey-5/
CATEGORIES:Course Modules
END:VEVENT
BEGIN:VEVENT
DTSTART;TZID=America/Detroit:20261024T100000
DTEND;TZID=America/Detroit:20261024T130000
DTSTAMP:20260421T081908
CREATED:20250922T164627Z
LAST-MODIFIED:20250922T170839Z
UID:2063-1792836000-1792846800@gofamintnaseminary.org
SUMMARY:NT101 – New Testament Survey
DESCRIPTION:This class gives a general overview of each book of the New Testament portion of the Bible. Students will gain an understanding of the historical background\, central theme or purpose\, literary design\, cultural context\, and applicable message for contemporary believers. It would challenge the student to think through the structure of the books of the NT and why each author organized the material the way they did. It would increase the hunger of the students to love and study the Scripture on a regular basis.
URL:https://gofamintnaseminary.org/calendar/nt101-new-testament-survey-6/
CATEGORIES:Course Modules
END:VEVENT
BEGIN:VEVENT
DTSTART;TZID=America/Detroit:20261031T100000
DTEND;TZID=America/Detroit:20261031T130000
DTSTAMP:20260421T081908
CREATED:20250922T164641Z
LAST-MODIFIED:20250922T170839Z
UID:2065-1793440800-1793451600@gofamintnaseminary.org
SUMMARY:NT101 – New Testament Survey
DESCRIPTION:This class gives a general overview of each book of the New Testament portion of the Bible. Students will gain an understanding of the historical background\, central theme or purpose\, literary design\, cultural context\, and applicable message for contemporary believers. It would challenge the student to think through the structure of the books of the NT and why each author organized the material the way they did. It would increase the hunger of the students to love and study the Scripture on a regular basis.
URL:https://gofamintnaseminary.org/calendar/nt101-new-testament-survey-7/
CATEGORIES:Course Modules
END:VEVENT
END:VCALENDAR