BEGIN:VCALENDAR
VERSION:2.0
PRODID:-//GOFAMINT NA Seminary - ECPv6.15.18//NONSGML v1.0//EN
CALSCALE:GREGORIAN
METHOD:PUBLISH
X-WR-CALNAME:GOFAMINT NA Seminary
X-ORIGINAL-URL:https://gofamintnaseminary.org
X-WR-CALDESC:Events for GOFAMINT NA Seminary
REFRESH-INTERVAL;VALUE=DURATION:PT1H
X-Robots-Tag:noindex
X-PUBLISHED-TTL:PT1H
BEGIN:VTIMEZONE
TZID:America/Detroit
BEGIN:DAYLIGHT
TZOFFSETFROM:-0500
TZOFFSETTO:-0400
TZNAME:EDT
DTSTART:20240310T070000
END:DAYLIGHT
BEGIN:STANDARD
TZOFFSETFROM:-0400
TZOFFSETTO:-0500
TZNAME:EST
DTSTART:20241103T060000
END:STANDARD
BEGIN:DAYLIGHT
TZOFFSETFROM:-0500
TZOFFSETTO:-0400
TZNAME:EDT
DTSTART:20250309T070000
END:DAYLIGHT
BEGIN:STANDARD
TZOFFSETFROM:-0400
TZOFFSETTO:-0500
TZNAME:EST
DTSTART:20251102T060000
END:STANDARD
BEGIN:DAYLIGHT
TZOFFSETFROM:-0500
TZOFFSETTO:-0400
TZNAME:EDT
DTSTART:20260308T070000
END:DAYLIGHT
BEGIN:STANDARD
TZOFFSETFROM:-0400
TZOFFSETTO:-0500
TZNAME:EST
DTSTART:20261101T060000
END:STANDARD
BEGIN:DAYLIGHT
TZOFFSETFROM:-0500
TZOFFSETTO:-0400
TZNAME:EDT
DTSTART:20270314T070000
END:DAYLIGHT
BEGIN:STANDARD
TZOFFSETFROM:-0400
TZOFFSETTO:-0500
TZNAME:EST
DTSTART:20271107T060000
END:STANDARD
END:VTIMEZONE
BEGIN:VEVENT
DTSTART;TZID=America/Detroit:20251220T100000
DTEND;TZID=America/Detroit:20260103T130000
DTSTAMP:20260417T173830
CREATED:20250922T164326Z
LAST-MODIFIED:20250922T172316Z
UID:2005-1766224800-1767445200@gofamintnaseminary.org
SUMMARY:Christmas/2026 New Year Break
DESCRIPTION:
URL:https://gofamintnaseminary.org/calendar/christmas-2026-new-year-break-2/
CATEGORIES:Breaks and Holidays
END:VEVENT
BEGIN:VEVENT
DTSTART;TZID=America/Detroit:20260110T100000
DTEND;TZID=America/Detroit:20260110T130000
DTSTAMP:20260417T173830
CREATED:20250811T092827Z
LAST-MODIFIED:20250922T164326Z
UID:1801-1768039200-1768050000@gofamintnaseminary.org
SUMMARY:CH102 – Introduction to Church History
DESCRIPTION:This course explores the historical development of the Christian Church from its inception in the early apostolic era to the modern age. It examines major movements\, key figures\, church councils\, theological developments\, and how the Church has responded to societal changes over the centuries.
URL:https://gofamintnaseminary.org/calendar/ch102-introduction-to-church-history/
CATEGORIES:Course Modules
END:VEVENT
BEGIN:VEVENT
DTSTART;TZID=America/Detroit:20260110T100000
DTEND;TZID=America/Detroit:20260110T130000
DTSTAMP:20260417T173830
CREATED:20250811T163838Z
LAST-MODIFIED:20250922T172116Z
UID:1854-1768039200-1768050000@gofamintnaseminary.org
SUMMARY:ST101 – Systematic Theology
DESCRIPTION:This class is an introductory review of the basic theological concentrations of the Christian faith. It centers on studying the entire scope of the Bible to gather everything Scripture teaches about a particular topic or issue. The class will give a general overview of Theology Proper\, Christology\, Pneumatology\, Soteriology\, Ecclesiology\, Angelology\, Bibliology\, Eschatology etc. After the class\, the student should have a good understanding of the basic thematic areas of the Scripture discussed.
URL:https://gofamintnaseminary.org/calendar/st101-systematic-theology-2/
CATEGORIES:Course Modules
END:VEVENT
BEGIN:VEVENT
DTSTART;TZID=America/Detroit:20260117T100000
DTEND;TZID=America/Detroit:20260117T130000
DTSTAMP:20260417T173830
CREATED:20250922T164327Z
LAST-MODIFIED:20250922T172217Z
UID:2008-1768644000-1768654800@gofamintnaseminary.org
SUMMARY:CH102 – Introduction to Church History
DESCRIPTION:This course explores the historical development of the Christian Church from its inception in the early apostolic era to the modern age. It examines major movements\, key figures\, church councils\, theological developments\, and how the Church has responded to societal changes over the centuries.
URL:https://gofamintnaseminary.org/calendar/ch102-introduction-to-church-history-4/
CATEGORIES:Course Modules
END:VEVENT
BEGIN:VEVENT
DTSTART;TZID=America/Detroit:20260117T100000
DTEND;TZID=America/Detroit:20260117T130000
DTSTAMP:20260417T173830
CREATED:20250922T164327Z
LAST-MODIFIED:20250922T172116Z
UID:2009-1768644000-1768654800@gofamintnaseminary.org
SUMMARY:ST101 – Systematic Theology
DESCRIPTION:This class is an introductory review of the basic theological concentrations of the Christian faith. It centers on studying the entire scope of the Bible to gather everything Scripture teaches about a particular topic or issue. The class will give a general overview of Theology Proper\, Christology\, Pneumatology\, Soteriology\, Ecclesiology\, Angelology\, Bibliology\, Eschatology etc. After the class\, the student should have a good understanding of the basic thematic areas of the Scripture discussed.
URL:https://gofamintnaseminary.org/calendar/st101-systematic-theology-3/
CATEGORIES:Course Modules
END:VEVENT
BEGIN:VEVENT
DTSTART;TZID=America/Detroit:20260124T100000
DTEND;TZID=America/Detroit:20260124T130000
DTSTAMP:20260417T173831
CREATED:20250922T164341Z
LAST-MODIFIED:20250922T172217Z
UID:2010-1769248800-1769259600@gofamintnaseminary.org
SUMMARY:CH102 – Introduction to Church History
DESCRIPTION:This course explores the historical development of the Christian Church from its inception in the early apostolic era to the modern age. It examines major movements\, key figures\, church councils\, theological developments\, and how the Church has responded to societal changes over the centuries.
URL:https://gofamintnaseminary.org/calendar/ch102-introduction-to-church-history-5/
CATEGORIES:Course Modules
END:VEVENT
BEGIN:VEVENT
DTSTART;TZID=America/Detroit:20260124T100000
DTEND;TZID=America/Detroit:20260124T130000
DTSTAMP:20260417T173831
CREATED:20250922T164341Z
LAST-MODIFIED:20250922T172116Z
UID:2011-1769248800-1769259600@gofamintnaseminary.org
SUMMARY:ST101 – Systematic Theology
DESCRIPTION:This class is an introductory review of the basic theological concentrations of the Christian faith. It centers on studying the entire scope of the Bible to gather everything Scripture teaches about a particular topic or issue. The class will give a general overview of Theology Proper\, Christology\, Pneumatology\, Soteriology\, Ecclesiology\, Angelology\, Bibliology\, Eschatology etc. After the class\, the student should have a good understanding of the basic thematic areas of the Scripture discussed.
URL:https://gofamintnaseminary.org/calendar/st101-systematic-theology-4/
CATEGORIES:Course Modules
END:VEVENT
BEGIN:VEVENT
DTSTART;TZID=America/Detroit:20260131T100000
DTEND;TZID=America/Detroit:20260131T130000
DTSTAMP:20260417T173831
CREATED:20250922T164342Z
LAST-MODIFIED:20250922T172217Z
UID:2012-1769853600-1769864400@gofamintnaseminary.org
SUMMARY:CH102 – Introduction to Church History
DESCRIPTION:This course explores the historical development of the Christian Church from its inception in the early apostolic era to the modern age. It examines major movements\, key figures\, church councils\, theological developments\, and how the Church has responded to societal changes over the centuries.
URL:https://gofamintnaseminary.org/calendar/ch102-introduction-to-church-history-6/
CATEGORIES:Course Modules
END:VEVENT
BEGIN:VEVENT
DTSTART;TZID=America/Detroit:20260131T100000
DTEND;TZID=America/Detroit:20260131T130000
DTSTAMP:20260417T173831
CREATED:20250922T164342Z
LAST-MODIFIED:20250922T172116Z
UID:2013-1769853600-1769864400@gofamintnaseminary.org
SUMMARY:ST101 – Systematic Theology
DESCRIPTION:This class is an introductory review of the basic theological concentrations of the Christian faith. It centers on studying the entire scope of the Bible to gather everything Scripture teaches about a particular topic or issue. The class will give a general overview of Theology Proper\, Christology\, Pneumatology\, Soteriology\, Ecclesiology\, Angelology\, Bibliology\, Eschatology etc. After the class\, the student should have a good understanding of the basic thematic areas of the Scripture discussed.
URL:https://gofamintnaseminary.org/calendar/st101-systematic-theology-5/
CATEGORIES:Course Modules
END:VEVENT
END:VCALENDAR