BEGIN:VCALENDAR
VERSION:2.0
PRODID:-//GOFAMINT NA Seminary - ECPv6.15.18//NONSGML v1.0//EN
CALSCALE:GREGORIAN
METHOD:PUBLISH
X-ORIGINAL-URL:https://gofamintnaseminary.org
X-WR-CALDESC:Events for GOFAMINT NA Seminary
REFRESH-INTERVAL;VALUE=DURATION:PT1H
X-Robots-Tag:noindex
X-PUBLISHED-TTL:PT1H
BEGIN:VTIMEZONE
TZID:America/Detroit
BEGIN:DAYLIGHT
TZOFFSETFROM:-0500
TZOFFSETTO:-0400
TZNAME:EDT
DTSTART:20240310T070000
END:DAYLIGHT
BEGIN:STANDARD
TZOFFSETFROM:-0400
TZOFFSETTO:-0500
TZNAME:EST
DTSTART:20241103T060000
END:STANDARD
BEGIN:DAYLIGHT
TZOFFSETFROM:-0500
TZOFFSETTO:-0400
TZNAME:EDT
DTSTART:20250309T070000
END:DAYLIGHT
BEGIN:STANDARD
TZOFFSETFROM:-0400
TZOFFSETTO:-0500
TZNAME:EST
DTSTART:20251102T060000
END:STANDARD
BEGIN:DAYLIGHT
TZOFFSETFROM:-0500
TZOFFSETTO:-0400
TZNAME:EDT
DTSTART:20260308T070000
END:DAYLIGHT
BEGIN:STANDARD
TZOFFSETFROM:-0400
TZOFFSETTO:-0500
TZNAME:EST
DTSTART:20261101T060000
END:STANDARD
END:VTIMEZONE
BEGIN:VEVENT
DTSTART;TZID=America/Detroit:20251108T100000
DTEND;TZID=America/Detroit:20251108T130000
DTSTAMP:20260419T122727
CREATED:20250922T164257Z
LAST-MODIFIED:20250922T172454Z
UID:1996-1762596000-1762606800@gofamintnaseminary.org
SUMMARY:CL102 – Fundamentals of Christian Leadership
DESCRIPTION:This course provides a foundational understanding of Christian leadership\, integrating biblical principles with practical leadership skills applicable in both church ministry and the marketplace. It examines leadership models in Scripture\, the character and calling of a Christian leader\, servant leadership\, and decision-making. Students will explore how Jesus Christ exemplified leadership and how His model applies to contemporary ministry\, business\, and professional settings. The course will also cover ethical leadership\, influence\, conflict resolution\, team management\, and strategic vision from a Christian worldview.
URL:https://gofamintnaseminary.org/calendar/cl102-fundamentals-of-christian-leadership-6/
CATEGORIES:Course Modules
END:VEVENT
BEGIN:VEVENT
DTSTART;TZID=America/Detroit:20251108T100000
DTEND;TZID=America/Detroit:20251108T130000
DTSTAMP:20260419T122727
CREATED:20250922T164239Z
LAST-MODIFIED:20250922T172538Z
UID:1990-1762596000-1762606800@gofamintnaseminary.org
SUMMARY:SF101 – Spiritual Formations
DESCRIPTION:This course focuses on the foundation of our faith and the core of our beliefs as believers in Christ because we become what we believe. (2 Corinthians 13:5) This class is designed to help the students review their Christian foundation\, cultivate the character of Christ and develop the daily disciplines required to live a life that truly honors God.
URL:https://gofamintnaseminary.org/calendar/sf101-spiritual-formations-6/
CATEGORIES:Course Modules
END:VEVENT
BEGIN:VEVENT
DTSTART;TZID=America/Detroit:20251101T100000
DTEND;TZID=America/Detroit:20251101T130000
DTSTAMP:20260419T122727
CREATED:20250922T164238Z
LAST-MODIFIED:20250922T172455Z
UID:1989-1761991200-1762002000@gofamintnaseminary.org
SUMMARY:CL102 – Fundamentals of Christian Leadership
DESCRIPTION:This course provides a foundational understanding of Christian leadership\, integrating biblical principles with practical leadership skills applicable in both church ministry and the marketplace. It examines leadership models in Scripture\, the character and calling of a Christian leader\, servant leadership\, and decision-making. Students will explore how Jesus Christ exemplified leadership and how His model applies to contemporary ministry\, business\, and professional settings. The course will also cover ethical leadership\, influence\, conflict resolution\, team management\, and strategic vision from a Christian worldview.
URL:https://gofamintnaseminary.org/calendar/cl102-fundamentals-of-christian-leadership-5/
CATEGORIES:Course Modules
END:VEVENT
BEGIN:VEVENT
DTSTART;TZID=America/Detroit:20251101T100000
DTEND;TZID=America/Detroit:20251101T130000
DTSTAMP:20260419T122727
CREATED:20250922T164238Z
LAST-MODIFIED:20250922T172538Z
UID:1988-1761991200-1762002000@gofamintnaseminary.org
SUMMARY:SF101 – Spiritual Formations
DESCRIPTION:This course focuses on the foundation of our faith and the core of our beliefs as believers in Christ because we become what we believe. (2 Corinthians 13:5) This class is designed to help the students review their Christian foundation\, cultivate the character of Christ and develop the daily disciplines required to live a life that truly honors God.
URL:https://gofamintnaseminary.org/calendar/sf101-spiritual-formations-5/
CATEGORIES:Course Modules
END:VEVENT
BEGIN:VEVENT
DTSTART;TZID=America/Detroit:20251025T100000
DTEND;TZID=America/Detroit:20251025T130000
DTSTAMP:20260419T122727
CREATED:20250922T164238Z
LAST-MODIFIED:20250922T172455Z
UID:1987-1761386400-1761397200@gofamintnaseminary.org
SUMMARY:CL102 – Fundamentals of Christian Leadership
DESCRIPTION:This course provides a foundational understanding of Christian leadership\, integrating biblical principles with practical leadership skills applicable in both church ministry and the marketplace. It examines leadership models in Scripture\, the character and calling of a Christian leader\, servant leadership\, and decision-making. Students will explore how Jesus Christ exemplified leadership and how His model applies to contemporary ministry\, business\, and professional settings. The course will also cover ethical leadership\, influence\, conflict resolution\, team management\, and strategic vision from a Christian worldview.
URL:https://gofamintnaseminary.org/calendar/cl102-fundamentals-of-christian-leadership-4/
CATEGORIES:Course Modules
END:VEVENT
BEGIN:VEVENT
DTSTART;TZID=America/Detroit:20251025T100000
DTEND;TZID=America/Detroit:20251025T130000
DTSTAMP:20260419T122727
CREATED:20250922T164237Z
LAST-MODIFIED:20250922T172538Z
UID:1986-1761386400-1761397200@gofamintnaseminary.org
SUMMARY:SF101 – Spiritual Formations
DESCRIPTION:This course focuses on the foundation of our faith and the core of our beliefs as believers in Christ because we become what we believe. (2 Corinthians 13:5) This class is designed to help the students review their Christian foundation\, cultivate the character of Christ and develop the daily disciplines required to live a life that truly honors God.
URL:https://gofamintnaseminary.org/calendar/sf101-spiritual-formations-4/
CATEGORIES:Course Modules
END:VEVENT
BEGIN:VEVENT
DTSTART;TZID=America/Detroit:20251018T100000
DTEND;TZID=America/Detroit:20251018T130000
DTSTAMP:20260419T122727
CREATED:20250922T164222Z
LAST-MODIFIED:20250922T172455Z
UID:1985-1760781600-1760792400@gofamintnaseminary.org
SUMMARY:CL102 – Fundamentals of Christian Leadership
DESCRIPTION:This course provides a foundational understanding of Christian leadership\, integrating biblical principles with practical leadership skills applicable in both church ministry and the marketplace. It examines leadership models in Scripture\, the character and calling of a Christian leader\, servant leadership\, and decision-making. Students will explore how Jesus Christ exemplified leadership and how His model applies to contemporary ministry\, business\, and professional settings. The course will also cover ethical leadership\, influence\, conflict resolution\, team management\, and strategic vision from a Christian worldview.
URL:https://gofamintnaseminary.org/calendar/cl102-fundamentals-of-christian-leadership-3/
CATEGORIES:Course Modules
END:VEVENT
BEGIN:VEVENT
DTSTART;TZID=America/Detroit:20251018T100000
DTEND;TZID=America/Detroit:20251018T130000
DTSTAMP:20260419T122727
CREATED:20250922T164222Z
LAST-MODIFIED:20250922T172538Z
UID:1984-1760781600-1760792400@gofamintnaseminary.org
SUMMARY:SF101 – Spiritual Formations
DESCRIPTION:This course focuses on the foundation of our faith and the core of our beliefs as believers in Christ because we become what we believe. (2 Corinthians 13:5) This class is designed to help the students review their Christian foundation\, cultivate the character of Christ and develop the daily disciplines required to live a life that truly honors God.
URL:https://gofamintnaseminary.org/calendar/sf101-spiritual-formations-3/
CATEGORIES:Course Modules
END:VEVENT
BEGIN:VEVENT
DTSTART;TZID=America/Detroit:20251011T100000
DTEND;TZID=America/Detroit:20251011T130000
DTSTAMP:20260419T122727
CREATED:20250811T163832Z
LAST-MODIFIED:20250922T164222Z
UID:1852-1760176800-1760187600@gofamintnaseminary.org
SUMMARY:SF101 – Spiritual Formations
DESCRIPTION:This course focuses on the foundation of our faith and the core of our beliefs as believers in Christ because we become what we believe. (2 Corinthians 13:5) This class is designed to help the students review their Christian foundation\, cultivate the character of Christ and develop the daily disciplines required to live a life that truly honors God.
URL:https://gofamintnaseminary.org/calendar/sf101-spiritual-formations-2/
CATEGORIES:Course Modules
END:VEVENT
BEGIN:VEVENT
DTSTART;TZID=America/Detroit:20251011T100000
DTEND;TZID=America/Detroit:20251011T130000
DTSTAMP:20260419T122727
CREATED:20250811T093029Z
LAST-MODIFIED:20250922T172455Z
UID:1805-1760176800-1760187600@gofamintnaseminary.org
SUMMARY:CL102 – Fundamentals of Christian Leadership
DESCRIPTION:This course provides a foundational understanding of Christian leadership\, integrating biblical principles with practical leadership skills applicable in both church ministry and the marketplace. It examines leadership models in Scripture\, the character and calling of a Christian leader\, servant leadership\, and decision-making. Students will explore how Jesus Christ exemplified leadership and how His model applies to contemporary ministry\, business\, and professional settings. The course will also cover ethical leadership\, influence\, conflict resolution\, team management\, and strategic vision from a Christian worldview.
URL:https://gofamintnaseminary.org/calendar/cl102-fundamentals-of-christian-leadership/
CATEGORIES:Course Modules
END:VEVENT
END:VCALENDAR