BEGIN:VCALENDAR
VERSION:2.0
PRODID:-//GOFAMINT NA Seminary - ECPv6.15.18//NONSGML v1.0//EN
CALSCALE:GREGORIAN
METHOD:PUBLISH
X-WR-CALNAME:GOFAMINT NA Seminary
X-ORIGINAL-URL:https://gofamintnaseminary.org
X-WR-CALDESC:Events for GOFAMINT NA Seminary
REFRESH-INTERVAL;VALUE=DURATION:PT1H
X-Robots-Tag:noindex
X-PUBLISHED-TTL:PT1H
BEGIN:VTIMEZONE
TZID:America/Detroit
BEGIN:DAYLIGHT
TZOFFSETFROM:-0500
TZOFFSETTO:-0400
TZNAME:EDT
DTSTART:20260308T070000
END:DAYLIGHT
BEGIN:STANDARD
TZOFFSETFROM:-0400
TZOFFSETTO:-0500
TZNAME:EST
DTSTART:20261101T060000
END:STANDARD
BEGIN:DAYLIGHT
TZOFFSETFROM:-0500
TZOFFSETTO:-0400
TZNAME:EDT
DTSTART:20270314T070000
END:DAYLIGHT
BEGIN:STANDARD
TZOFFSETFROM:-0400
TZOFFSETTO:-0500
TZNAME:EST
DTSTART:20271107T060000
END:STANDARD
BEGIN:DAYLIGHT
TZOFFSETFROM:-0500
TZOFFSETTO:-0400
TZNAME:EDT
DTSTART:20280312T070000
END:DAYLIGHT
BEGIN:STANDARD
TZOFFSETFROM:-0400
TZOFFSETTO:-0500
TZNAME:EST
DTSTART:20281105T060000
END:STANDARD
END:VTIMEZONE
BEGIN:VEVENT
DTSTART;TZID=America/Detroit:20270116T100000
DTEND;TZID=America/Detroit:20270116T130000
DTSTAMP:20260420T195418
CREATED:20250922T164726Z
LAST-MODIFIED:20250922T170450Z
UID:2080-1800093600-1800104400@gofamintnaseminary.org
SUMMARY:HM101 – Hermeneutics
DESCRIPTION:Hermeneutics is the branch of Christian theology that deals with the interpretation of the Bible. This course will discuss the importance of context\, historical setting\, geography\, figures of speech and biblical poetry. It will differentiate between drawing out the intended meaning of a passage (exegesis) versus reading into a passage a meaning that is not there (eisegesis). In the end\, students would be familiar with the important principles that must be followed to interpret\, understand and apply God’s word\, correctly. They will also be better equipped to preach and teach the word with greater confidence and relevance.
URL:https://gofamintnaseminary.org/calendar/hm101-hermeneutics-6/
CATEGORIES:Course Modules
END:VEVENT
BEGIN:VEVENT
DTSTART;TZID=America/Detroit:20270116T100000
DTEND;TZID=America/Detroit:20270116T130000
DTSTAMP:20260420T195418
CREATED:20250922T164727Z
LAST-MODIFIED:20250922T170359Z
UID:2081-1800093600-1800104400@gofamintnaseminary.org
SUMMARY:MS102 – Missiology: Church Planting\, Practice & Cross-Cultural Mission
DESCRIPTION:This course offers an in-depth study of missions\, church planting\, and cross-cultural ministry. It explores the biblical foundation of the Great Commission and the role of the church in global missions. Students will study church planting strategies\, cross-cultural communication\, and how to effectively share the Gospel in diverse cultural contexts. Emphasis will be placed on understanding cultural dynamics\, learning cross-cultural communication skills\, and overcoming challenges when ministering in multicultural environments. It covers biblical foundations of mission work\, cross-cultural ministry\, church growth principles\, and strategies for planting and sustaining churches.\nIt will also prepare students to plant churches and engage in mission work that respects and adapts to cultural differences while maintaining biblical truth and integrity.
URL:https://gofamintnaseminary.org/calendar/ms102-missiology-church-planting-practice-cross-cultural-mission-7/
CATEGORIES:Course Modules
END:VEVENT
END:VCALENDAR