BEGIN:VCALENDAR
VERSION:2.0
PRODID:-//GOFAMINT NA Seminary - ECPv6.15.18//NONSGML v1.0//EN
CALSCALE:GREGORIAN
METHOD:PUBLISH
X-WR-CALNAME:GOFAMINT NA Seminary
X-ORIGINAL-URL:https://gofamintnaseminary.org
X-WR-CALDESC:Events for GOFAMINT NA Seminary
REFRESH-INTERVAL;VALUE=DURATION:PT1H
X-Robots-Tag:noindex
X-PUBLISHED-TTL:PT1H
BEGIN:VTIMEZONE
TZID:America/Detroit
BEGIN:DAYLIGHT
TZOFFSETFROM:-0500
TZOFFSETTO:-0400
TZNAME:EDT
DTSTART:20250309T070000
END:DAYLIGHT
BEGIN:STANDARD
TZOFFSETFROM:-0400
TZOFFSETTO:-0500
TZNAME:EST
DTSTART:20251102T060000
END:STANDARD
BEGIN:DAYLIGHT
TZOFFSETFROM:-0500
TZOFFSETTO:-0400
TZNAME:EDT
DTSTART:20260308T070000
END:DAYLIGHT
BEGIN:STANDARD
TZOFFSETFROM:-0400
TZOFFSETTO:-0500
TZNAME:EST
DTSTART:20261101T060000
END:STANDARD
BEGIN:DAYLIGHT
TZOFFSETFROM:-0500
TZOFFSETTO:-0400
TZNAME:EDT
DTSTART:20270314T070000
END:DAYLIGHT
BEGIN:STANDARD
TZOFFSETFROM:-0400
TZOFFSETTO:-0500
TZNAME:EST
DTSTART:20271107T060000
END:STANDARD
END:VTIMEZONE
BEGIN:VEVENT
DTSTART;TZID=America/Detroit:20260207T100000
DTEND;TZID=America/Detroit:20260207T130000
DTSTAMP:20260419T123149
CREATED:20250922T164342Z
LAST-MODIFIED:20250922T172217Z
UID:2014-1770458400-1770469200@gofamintnaseminary.org
SUMMARY:CH102 – Introduction to Church History
DESCRIPTION:This course explores the historical development of the Christian Church from its inception in the early apostolic era to the modern age. It examines major movements\, key figures\, church councils\, theological developments\, and how the Church has responded to societal changes over the centuries.
URL:https://gofamintnaseminary.org/calendar/ch102-introduction-to-church-history-7/
CATEGORIES:Course Modules
END:VEVENT
BEGIN:VEVENT
DTSTART;TZID=America/Detroit:20260207T100000
DTEND;TZID=America/Detroit:20260207T130000
DTSTAMP:20260419T123149
CREATED:20250922T164356Z
LAST-MODIFIED:20250922T172116Z
UID:2015-1770458400-1770469200@gofamintnaseminary.org
SUMMARY:ST101 – Systematic Theology
DESCRIPTION:This class is an introductory review of the basic theological concentrations of the Christian faith. It centers on studying the entire scope of the Bible to gather everything Scripture teaches about a particular topic or issue. The class will give a general overview of Theology Proper\, Christology\, Pneumatology\, Soteriology\, Ecclesiology\, Angelology\, Bibliology\, Eschatology etc. After the class\, the student should have a good understanding of the basic thematic areas of the Scripture discussed.
URL:https://gofamintnaseminary.org/calendar/st101-systematic-theology-6/
CATEGORIES:Course Modules
END:VEVENT
END:VCALENDAR