BEGIN:VCALENDAR
VERSION:2.0
PRODID:-//GOFAMINT NA Seminary - ECPv6.15.18//NONSGML v1.0//EN
CALSCALE:GREGORIAN
METHOD:PUBLISH
X-ORIGINAL-URL:https://gofamintnaseminary.org
X-WR-CALDESC:Events for GOFAMINT NA Seminary
REFRESH-INTERVAL;VALUE=DURATION:PT1H
X-Robots-Tag:noindex
X-PUBLISHED-TTL:PT1H
BEGIN:VTIMEZONE
TZID:America/Detroit
BEGIN:DAYLIGHT
TZOFFSETFROM:-0500
TZOFFSETTO:-0400
TZNAME:EDT
DTSTART:20240310T070000
END:DAYLIGHT
BEGIN:STANDARD
TZOFFSETFROM:-0400
TZOFFSETTO:-0500
TZNAME:EST
DTSTART:20241103T060000
END:STANDARD
BEGIN:DAYLIGHT
TZOFFSETFROM:-0500
TZOFFSETTO:-0400
TZNAME:EDT
DTSTART:20250309T070000
END:DAYLIGHT
BEGIN:STANDARD
TZOFFSETFROM:-0400
TZOFFSETTO:-0500
TZNAME:EST
DTSTART:20251102T060000
END:STANDARD
BEGIN:DAYLIGHT
TZOFFSETFROM:-0500
TZOFFSETTO:-0400
TZNAME:EDT
DTSTART:20260308T070000
END:DAYLIGHT
BEGIN:STANDARD
TZOFFSETFROM:-0400
TZOFFSETTO:-0500
TZNAME:EST
DTSTART:20261101T060000
END:STANDARD
END:VTIMEZONE
BEGIN:VEVENT
DTSTART;TZID=America/Detroit:20251206T100000
DTEND;TZID=America/Detroit:20251206T130000
DTSTAMP:20260419T134427
CREATED:20250922T164311Z
LAST-MODIFIED:20250922T172116Z
UID:2003-1765015200-1765026000@gofamintnaseminary.org
SUMMARY:ST101 – Introduction to Systematic Theology
DESCRIPTION:This course examines the historical development of the Christian Church from its inception in the early apostolic era to the present day. It examines major movements\, key figures\, church councils\, theological developments\, and how the Church has responded to societal changes over the centuries.
URL:https://gofamintnaseminary.org/calendar/st101-introduction-to-systematic-theology/
CATEGORIES:Course Modules
END:VEVENT
BEGIN:VEVENT
DTSTART;TZID=America/Detroit:20251206T100000
DTEND;TZID=America/Detroit:20251206T130000
DTSTAMP:20260419T134427
CREATED:20250922T164312Z
LAST-MODIFIED:20250922T172218Z
UID:2004-1765015200-1765026000@gofamintnaseminary.org
SUMMARY:CH102 – Introduction to Church History
DESCRIPTION:This course examines the historical development of the Christian Church from its inception in the early apostolic era to the present day. It examines major movements\, key figures\, church councils\, theological developments\, and how the Church has responded to societal changes over the centuries.
URL:https://gofamintnaseminary.org/calendar/ch102-introduction-to-church-history-3/
CATEGORIES:Course Modules
END:VEVENT
END:VCALENDAR